BEGIN:VCALENDAR
VERSION:2.0
PRODID:-//WordPress Meetup Koblenz - ECPv6.15.20//NONSGML v1.0//EN
CALSCALE:GREGORIAN
METHOD:PUBLISH
X-ORIGINAL-URL:https://wpkoblenz.de
X-WR-CALDESC:Veranstaltungen für WordPress Meetup Koblenz
REFRESH-INTERVAL;VALUE=DURATION:PT1H
X-Robots-Tag:noindex
X-PUBLISHED-TTL:PT1H
BEGIN:VTIMEZONE
TZID:Europe/Berlin
BEGIN:DAYLIGHT
TZOFFSETFROM:+0100
TZOFFSETTO:+0200
TZNAME:CEST
DTSTART:20220327T010000
END:DAYLIGHT
BEGIN:STANDARD
TZOFFSETFROM:+0200
TZOFFSETTO:+0100
TZNAME:CET
DTSTART:20221030T010000
END:STANDARD
BEGIN:DAYLIGHT
TZOFFSETFROM:+0100
TZOFFSETTO:+0200
TZNAME:CEST
DTSTART:20230326T010000
END:DAYLIGHT
BEGIN:STANDARD
TZOFFSETFROM:+0200
TZOFFSETTO:+0100
TZNAME:CET
DTSTART:20231029T010000
END:STANDARD
BEGIN:DAYLIGHT
TZOFFSETFROM:+0100
TZOFFSETTO:+0200
TZNAME:CEST
DTSTART:20240331T010000
END:DAYLIGHT
BEGIN:STANDARD
TZOFFSETFROM:+0200
TZOFFSETTO:+0100
TZNAME:CET
DTSTART:20241027T010000
END:STANDARD
END:VTIMEZONE
BEGIN:VEVENT
DTSTART;TZID=Europe/Berlin:20230510T190000
DTEND;TZID=Europe/Berlin:20230510T220000
DTSTAMP:20260423T075534
CREATED:20230504T183445Z
LAST-MODIFIED:20230504T183503Z
UID:29575-1683745200-1683756000@wpkoblenz.de
SUMMARY:WPKO #42 - Website Checkliste
DESCRIPTION:Was ist zu tun\, bevor man seine Website nun endlich launcht? Welche Einstellungen sollten gemacht werden? Welche Inhalte braucht es? Wir reden in diesem Meetup über Checklisten und vergleichen unsere Vorgehensweisen und unsere „MUST-DOs“. \n\n\n\nGemeinsam diskutieren wir\, welche Dinge man beim Start eines Webprojektes beachten sollte und erstellen eine Checkliste\, die für aktuelle und zukünftige Webprojekte als Richtlinie dienen kann. \n\n\n\nWir freuen uns auf euch im TZK Koblenz! \n\n\n\nINFOS zur LOCATION: \n\n\n\nEs gibt hier eine elektrische Tür\, die von innen geöffnet werden muss. Wenn Du also etwas später kommst\, musst Du die an der Tür angeklebte Nummer anrufen und wir machen die Tür auf. \n\n\n\nPARKEN: \n\n\n\nLeider gibt es direkt am Gebäude des TKZ keine Parkplätze. Bitte parkt an der Straße oder auf dem großen Parkplatz am StattStrand. \n\n\n\n########################### \n\n\n\nUnser WordPress-Treffen ist offen für alle Interessierten\, egal ob Anwender/in\, Entwickler/in\, Student/in oder Unternehmer/in. Bei uns ist jeder willkommen\, der Wissensstand ist bunt gemischt und wir freuen uns immer über neue Gesichter. \n\n\n\nBei unseren Treffen geht es meistens ca. 1 Std. um ein bestimmtes Thema und danach ist eine offene Diskussions-/Austauschrunde für alle WordPress-Themen. Wir schauen aber auch gerne mal über den Tellerrand. \n\n\n\nWeitere Infos gibt es auch auf der Website https://wpkoblenz.de \n\n\n\nauf Twitter: https://twitter.com/wpkoblenz \n\n\n\noder Facebook: https://www.facebook.com/wpkoblenz/ \n\n\n\noder LinkedIn: https://www.linkedin.com/groups/12711272/ \n\n\n\nDie weiteren Termine: immer am 2. Mittwoch im Monat\, Termine werden auf allen Kanälen veröffentlicht. \n\n\n\nAlle WordPress Meetups im deutschsprachigen Raum findet man hier: http://wpmeetups.de/
URL:https://wpkoblenz.de/meetup/wpko-42-website-checkliste/
LOCATION:TZK – Technologiezentrum Koblenz\, Universitätsstraße 3\, Koblenz\, 56070\, Deutschland
ATTACH;FMTTYPE=image/jpeg:https://wpkoblenz.de/wp-content/uploads/2023/05/wpkko-42-website-checklist.jpg
END:VEVENT
END:VCALENDAR