BEGIN:VCALENDAR
VERSION:2.0
PRODID:-//WordPress Meetup Koblenz - ECPv6.15.20//NONSGML v1.0//EN
CALSCALE:GREGORIAN
METHOD:PUBLISH
X-WR-CALNAME:WordPress Meetup Koblenz
X-ORIGINAL-URL:https://wpkoblenz.de
X-WR-CALDESC:Veranstaltungen für WordPress Meetup Koblenz
REFRESH-INTERVAL;VALUE=DURATION:PT1H
X-Robots-Tag:noindex
X-PUBLISHED-TTL:PT1H
BEGIN:VTIMEZONE
TZID:Europe/Berlin
BEGIN:DAYLIGHT
TZOFFSETFROM:+0100
TZOFFSETTO:+0200
TZNAME:CEST
DTSTART:20240331T010000
END:DAYLIGHT
BEGIN:STANDARD
TZOFFSETFROM:+0200
TZOFFSETTO:+0100
TZNAME:CET
DTSTART:20241027T010000
END:STANDARD
BEGIN:DAYLIGHT
TZOFFSETFROM:+0100
TZOFFSETTO:+0200
TZNAME:CEST
DTSTART:20250330T010000
END:DAYLIGHT
BEGIN:STANDARD
TZOFFSETFROM:+0200
TZOFFSETTO:+0100
TZNAME:CET
DTSTART:20251026T010000
END:STANDARD
BEGIN:DAYLIGHT
TZOFFSETFROM:+0100
TZOFFSETTO:+0200
TZNAME:CEST
DTSTART:20260329T010000
END:DAYLIGHT
BEGIN:STANDARD
TZOFFSETFROM:+0200
TZOFFSETTO:+0100
TZNAME:CET
DTSTART:20261025T010000
END:STANDARD
END:VTIMEZONE
BEGIN:VEVENT
DTSTART;TZID=Europe/Berlin:20250514T190000
DTEND;TZID=Europe/Berlin:20250514T220000
DTSTAMP:20260421T173256
CREATED:20250507T110555Z
LAST-MODIFIED:20250507T110556Z
UID:29726-1747249200-1747260000@wpkoblenz.de
SUMMARY:WPKO #62: Offene Runde und WordPress Werkstatt
DESCRIPTION:Heute haben wir kein spezielles Thema\, es ist also viel Zeit\, eure Fragen bzgl. eurer WordPress Seite und auch alle anderen Dinge zu besprechen. Wir machen eine offene Runde und behandeln\, was euch interessiert oder auf der Seele brennt. \n\n\n\nWir freuen uns auf euch im TZK Koblenz \n\n\n\nINFOS zur LOCATION:Es gibt hier eine elektrische Tür\, die von innen geöffnet werden muss. Wenn Du also etwas später kommst\, musst Du die an der Tür angeklebte Nummer anrufen und wir machen die Tür auf. \n\n\n\nPARKEN:Leider gibt es direkt am Gebäude des TKZ keine Parkplätze. Bitte parkt an der Straße oder auf dem großen Parkplatz am StattStrand.########################### \n\n\n\nUnser WordPress-Treffen ist offen für alle Interessierten\, egal ob Anwender/in\, Entwickler/in\, Student/in oder Unternehmer/in. Bei uns ist jeder willkommen\, der Wissensstand ist bunt gemischt und wir freuen uns immer über neue Gesichter. \n\n\n\nBei unseren Treffen geht es meistens ca. 1 Std. um ein bestimmtes Thema und danach ist eine offene Diskussions-/Austauschrunde für alle WordPress-Themen. Wir schauen aber auch gerne mal über den Tellerrand. \n\n\n\nWeitere Infos gibt es auch auf der Website https://wpkoblenz.deauf Twitter: https://twitter.com/wpkoblenzoder Facebook: https://www.facebook.com/wpkoblenz/oder LinkedIn: https://www.linkedin.com/groups/12711272/Die weiteren Termine: immer am 2. Mittwoch im Monat\, Termine werden auf allen Kanälen veröffentlicht.Alle WordPress Meetups im deutschsprachigen Raum findet man hier: http://wpmeetups.de/
URL:https://wpkoblenz.de/meetup/wpko-62-offene-runde-und-wordpress-werkstatt/
LOCATION:TZK – Technologiezentrum Koblenz\, Universitätsstraße 3\, Koblenz\, 56070\, Deutschland
ATTACH;FMTTYPE=image/jpeg:https://wpkoblenz.de/wp-content/uploads/2025/05/stencil.fb-cover-joe.jpg
END:VEVENT
END:VCALENDAR