BEGIN:VCALENDAR
VERSION:2.0
PRODID:-//WordPress Meetup Koblenz - ECPv6.15.20//NONSGML v1.0//EN
CALSCALE:GREGORIAN
METHOD:PUBLISH
X-WR-CALNAME:WordPress Meetup Koblenz
X-ORIGINAL-URL:https://wpkoblenz.de
X-WR-CALDESC:Veranstaltungen für WordPress Meetup Koblenz
REFRESH-INTERVAL;VALUE=DURATION:PT1H
X-Robots-Tag:noindex
X-PUBLISHED-TTL:PT1H
BEGIN:VTIMEZONE
TZID:Europe/Berlin
BEGIN:DAYLIGHT
TZOFFSETFROM:+0100
TZOFFSETTO:+0200
TZNAME:CEST
DTSTART:20220327T010000
END:DAYLIGHT
BEGIN:STANDARD
TZOFFSETFROM:+0200
TZOFFSETTO:+0100
TZNAME:CET
DTSTART:20221030T010000
END:STANDARD
BEGIN:DAYLIGHT
TZOFFSETFROM:+0100
TZOFFSETTO:+0200
TZNAME:CEST
DTSTART:20230326T010000
END:DAYLIGHT
BEGIN:STANDARD
TZOFFSETFROM:+0200
TZOFFSETTO:+0100
TZNAME:CET
DTSTART:20231029T010000
END:STANDARD
BEGIN:DAYLIGHT
TZOFFSETFROM:+0100
TZOFFSETTO:+0200
TZNAME:CEST
DTSTART:20240331T010000
END:DAYLIGHT
BEGIN:STANDARD
TZOFFSETFROM:+0200
TZOFFSETTO:+0100
TZNAME:CET
DTSTART:20241027T010000
END:STANDARD
END:VTIMEZONE
BEGIN:VEVENT
DTSTART;TZID=Europe/Berlin:20230208T190000
DTEND;TZID=Europe/Berlin:20230208T220000
DTSTAMP:20260423T110630
CREATED:20230126T150010Z
LAST-MODIFIED:20230126T150241Z
UID:29494-1675882800-1675893600@wpkoblenz.de
SUMMARY:WPKO #39 - ChatGPT und Website Werkstatt
DESCRIPTION:ChatGPT – aktuell spricht die ganze Welt über die künstliche Intelligenz von ChatGPT. \n\n\n\nFür Jedermann und Jederfrau (noch) kostenfrei zum Ausprobieren verfügbar hat ChatGPT die digitale Welt aufgewühlt. Zwischen Skepsis und Angst sowie Neugier und Aufregung rangieren die ausgedrückten Gefühle. \n\n\n\nChristian Jung zeigt uns anhand eines praktischen Beispiels wie man diese KI in WordPress nutzen kann und wir besprechen\, ob und wie wir diese Art von “Helferlein” jetzt oder in Zukunft auch für unsere Arbeit in und mit WordPress nutzen können. \n\n\n\nIm weiteren Verlauf schauen wir uns in der großen oder in kleineren Gruppen eure konkreten Fragen zu euren eigenen WordPress – Websites an und versuchen\, so gut wie möglich zu unterstützen.
URL:https://wpkoblenz.de/meetup/wpko-39-chatgpt-und-website-werkstatt/
LOCATION:TZK – Technologiezentrum Koblenz\, Universitätsstraße 3\, Koblenz\, 56070\, Deutschland
ATTACH;FMTTYPE=image/jpeg:https://wpkoblenz.de/wp-content/uploads/2023/01/meetup-39-header.jpeg
END:VEVENT
END:VCALENDAR