BEGIN:VCALENDAR
VERSION:2.0
PRODID:-//WordPress Meetup Koblenz - ECPv6.15.20//NONSGML v1.0//EN
CALSCALE:GREGORIAN
METHOD:PUBLISH
X-WR-CALNAME:WordPress Meetup Koblenz
X-ORIGINAL-URL:https://wpkoblenz.de
X-WR-CALDESC:Veranstaltungen für WordPress Meetup Koblenz
REFRESH-INTERVAL;VALUE=DURATION:PT1H
X-Robots-Tag:noindex
X-PUBLISHED-TTL:PT1H
BEGIN:VTIMEZONE
TZID:Europe/Berlin
BEGIN:DAYLIGHT
TZOFFSETFROM:+0100
TZOFFSETTO:+0200
TZNAME:CEST
DTSTART:20220327T010000
END:DAYLIGHT
BEGIN:STANDARD
TZOFFSETFROM:+0200
TZOFFSETTO:+0100
TZNAME:CET
DTSTART:20221030T010000
END:STANDARD
BEGIN:DAYLIGHT
TZOFFSETFROM:+0100
TZOFFSETTO:+0200
TZNAME:CEST
DTSTART:20230326T010000
END:DAYLIGHT
BEGIN:STANDARD
TZOFFSETFROM:+0200
TZOFFSETTO:+0100
TZNAME:CET
DTSTART:20231029T010000
END:STANDARD
BEGIN:DAYLIGHT
TZOFFSETFROM:+0100
TZOFFSETTO:+0200
TZNAME:CEST
DTSTART:20240331T010000
END:DAYLIGHT
BEGIN:STANDARD
TZOFFSETFROM:+0200
TZOFFSETTO:+0100
TZNAME:CET
DTSTART:20241027T010000
END:STANDARD
END:VTIMEZONE
BEGIN:VEVENT
DTSTART;TZID=Europe/Berlin:20230308T190000
DTEND;TZID=Europe/Berlin:20230308T220000
DTSTAMP:20260423T092922
CREATED:20230224T093328Z
LAST-MODIFIED:20230224T093347Z
UID:29503-1678302000-1678312800@wpkoblenz.de
SUMMARY:WPKO #40 - Website-Konzept & Planung
DESCRIPTION:WordPress ist installiert\, das Theme ist gewählt… los gehts? \n\n\n\nHALT! \n\n\n\nIn diesem Meetup sprechen wir darüber\, welche Gedanken du dir VOR dem Beginn der „Bauarbeiten“ an deiner Website machen solltest\, damit sie später auch den gewünschten Erfolg bringt. \n\n\n\nDabei gibt es einige grundlegende Dinge zu beachten\, die aber unverzichtbar sind\, wenn du deine Traumkunden ansprechen und eine konvertierende Website erstellen willst. \n\n\n\nNach einem kurzen Vortrag von Anja und Christian\, schauen wir uns die einzelnen Punkte im Detail an\, helfen dir beim Brainstormen für dein Projekt oder schauen uns einige sprechende Beispiele an. \n\n\n\nDanach stehen wir wie immer für eine offene Fragestunde und allgemeine Diskussionsrunde zur Verfügung. \n\n\n\nWir freuen uns auf dich!
URL:https://wpkoblenz.de/meetup/wpko-40-website-konzept-planung/
LOCATION:TZK – Technologiezentrum Koblenz\, Universitätsstraße 3\, Koblenz\, 56070\, Deutschland
ATTACH;FMTTYPE=image/jpeg:https://wpkoblenz.de/wp-content/uploads/2023/01/meetup-39-header.jpeg
END:VEVENT
END:VCALENDAR