BEGIN:VCALENDAR
VERSION:2.0
PRODID:-//WordPress Meetup Koblenz - ECPv6.15.20//NONSGML v1.0//EN
CALSCALE:GREGORIAN
METHOD:PUBLISH
X-WR-CALNAME:WordPress Meetup Koblenz
X-ORIGINAL-URL:https://wpkoblenz.de
X-WR-CALDESC:Veranstaltungen für WordPress Meetup Koblenz
REFRESH-INTERVAL;VALUE=DURATION:PT1H
X-Robots-Tag:noindex
X-PUBLISHED-TTL:PT1H
BEGIN:VTIMEZONE
TZID:Europe/Berlin
BEGIN:DAYLIGHT
TZOFFSETFROM:+0100
TZOFFSETTO:+0200
TZNAME:CEST
DTSTART:20230326T010000
END:DAYLIGHT
BEGIN:STANDARD
TZOFFSETFROM:+0200
TZOFFSETTO:+0100
TZNAME:CET
DTSTART:20231029T010000
END:STANDARD
BEGIN:DAYLIGHT
TZOFFSETFROM:+0100
TZOFFSETTO:+0200
TZNAME:CEST
DTSTART:20240331T010000
END:DAYLIGHT
BEGIN:STANDARD
TZOFFSETFROM:+0200
TZOFFSETTO:+0100
TZNAME:CET
DTSTART:20241027T010000
END:STANDARD
BEGIN:DAYLIGHT
TZOFFSETFROM:+0100
TZOFFSETTO:+0200
TZNAME:CEST
DTSTART:20250330T010000
END:DAYLIGHT
BEGIN:STANDARD
TZOFFSETFROM:+0200
TZOFFSETTO:+0100
TZNAME:CET
DTSTART:20251026T010000
END:STANDARD
END:VTIMEZONE
BEGIN:VEVENT
DTSTART;TZID=Europe/Berlin:20240313T190000
DTEND;TZID=Europe/Berlin:20240313T220000
DTSTAMP:20260422T144430
CREATED:20240310T153924Z
LAST-MODIFIED:20240310T153925Z
UID:29646-1710356400-1710367200@wpkoblenz.de
SUMMARY:WPKO #50 - Learnings aus 1.000.000 Plugin-Updates
DESCRIPTION:Plugins sind ein zentraler Bestandteil von WordPress und durch die damit verbundene Flexibilität der Systeme Basis für den Erfolg des meist genutzten CMS auf der Welt. Plugins sind schnell installiert\, müssen aber auch gepflegt werden. Eine sinnvolle Update-Strategie für die Plugins\, aber auch Themes und WordPress-Core\, ist ein zentrales Element für die Sicherheit der Website. Trotzdem sind Plugin-Updates nicht immer problem- oder gefahrlos. \n\n\n\nEs lauern Fallstricke bei der richtigen Reihenfolge der Updates\, bei der Kompatibilität zu anderen Komponenten\, beim Duell ähnlicher Plugins\, bei kostenpflichtigen Plugins und vielen Dingen mehr.Wir blicken in die Tiefen dessen\, was alles bei Plugin-Updates schief gehen kann – schauen uns aber auch an\, wie man diese Probleme lösen kann. Und wäre es nicht gelacht\, wenn wir auch noch ein paar Dinge zum Schmunzeln und Kopfschütteln finden würden? \n\n\n\nNatürlich gilt auch in diesem Meetup: Bringt eure Fragen oder WordPress-Probleme mit und wir versuchen zu helfen\, wo es möglich ist. \n\n\n\nWir freuen uns auf euch im TZK Koblenz.
URL:https://wpkoblenz.de/meetup/wpko-50-learnings-aus-1-000-000-plugin-updates/
LOCATION:TZK – Technologiezentrum Koblenz\, Universitätsstraße 3\, Koblenz\, 56070\, Deutschland
ATTACH;FMTTYPE=image/jpeg:https://wpkoblenz.de/wp-content/uploads/2024/03/50-learnings-plugin-updates.jpg
END:VEVENT
END:VCALENDAR