BEGIN:VCALENDAR
VERSION:2.0
PRODID:-//WordPress Meetup Koblenz - ECPv6.15.20//NONSGML v1.0//EN
CALSCALE:GREGORIAN
METHOD:PUBLISH
X-WR-CALNAME:WordPress Meetup Koblenz
X-ORIGINAL-URL:https://wpkoblenz.de
X-WR-CALDESC:Veranstaltungen für WordPress Meetup Koblenz
REFRESH-INTERVAL;VALUE=DURATION:PT1H
X-Robots-Tag:noindex
X-PUBLISHED-TTL:PT1H
BEGIN:VTIMEZONE
TZID:Europe/Berlin
BEGIN:DAYLIGHT
TZOFFSETFROM:+0100
TZOFFSETTO:+0200
TZNAME:CEST
DTSTART:20230326T010000
END:DAYLIGHT
BEGIN:STANDARD
TZOFFSETFROM:+0200
TZOFFSETTO:+0100
TZNAME:CET
DTSTART:20231029T010000
END:STANDARD
BEGIN:DAYLIGHT
TZOFFSETFROM:+0100
TZOFFSETTO:+0200
TZNAME:CEST
DTSTART:20240331T010000
END:DAYLIGHT
BEGIN:STANDARD
TZOFFSETFROM:+0200
TZOFFSETTO:+0100
TZNAME:CET
DTSTART:20241027T010000
END:STANDARD
BEGIN:DAYLIGHT
TZOFFSETFROM:+0100
TZOFFSETTO:+0200
TZNAME:CEST
DTSTART:20250330T010000
END:DAYLIGHT
BEGIN:STANDARD
TZOFFSETFROM:+0200
TZOFFSETTO:+0100
TZNAME:CET
DTSTART:20251026T010000
END:STANDARD
END:VTIMEZONE
BEGIN:VEVENT
DTSTART;TZID=Europe/Berlin:20240508T190000
DTEND;TZID=Europe/Berlin:20240508T220000
DTSTAMP:20260422T112450
CREATED:20240505T091316Z
LAST-MODIFIED:20240505T092238Z
UID:29661-1715194800-1715205600@wpkoblenz.de
SUMMARY:WPKO #52 - Booste deine Website: Optimierung des Pagespeeds für eine bessere Benutzererfahrung
DESCRIPTION:Erfahre\, wie du die Ladezeit deiner Website verbessern und die Benutzererfahrung maximieren kannst!  \n\n\n\nIn diesem Meetup tauchen wir in das Thema Pagespeed ein und zeigen dir dabei praktische Tipps und bewährte Methoden\, die zu einer schnelleren Website führen.  \n\n\n\nVon der Reduzierung der Dateigrößen\, über die Optimierung der Serverantwortzeit und das richtige Konfigurieren eines Caching Plugins wird für jeden etwas dabei sein.
URL:https://wpkoblenz.de/meetup/wpko-52-booste-deine-website-optimierung-des-pagespeeds-fuer-eine-bessere-benutzererfahrung/
LOCATION:TZK – Technologiezentrum Koblenz\, Universitätsstraße 3\, Koblenz\, 56070\, Deutschland
END:VEVENT
END:VCALENDAR