BEGIN:VCALENDAR
VERSION:2.0
PRODID:-//WordPress Meetup Koblenz - ECPv6.15.20//NONSGML v1.0//EN
CALSCALE:GREGORIAN
METHOD:PUBLISH
X-WR-CALNAME:WordPress Meetup Koblenz
X-ORIGINAL-URL:https://wpkoblenz.de
X-WR-CALDESC:Veranstaltungen für WordPress Meetup Koblenz
REFRESH-INTERVAL;VALUE=DURATION:PT1H
X-Robots-Tag:noindex
X-PUBLISHED-TTL:PT1H
BEGIN:VTIMEZONE
TZID:Europe/Berlin
BEGIN:DAYLIGHT
TZOFFSETFROM:+0100
TZOFFSETTO:+0200
TZNAME:CEST
DTSTART:20230326T010000
END:DAYLIGHT
BEGIN:STANDARD
TZOFFSETFROM:+0200
TZOFFSETTO:+0100
TZNAME:CET
DTSTART:20231029T010000
END:STANDARD
BEGIN:DAYLIGHT
TZOFFSETFROM:+0100
TZOFFSETTO:+0200
TZNAME:CEST
DTSTART:20240331T010000
END:DAYLIGHT
BEGIN:STANDARD
TZOFFSETFROM:+0200
TZOFFSETTO:+0100
TZNAME:CET
DTSTART:20241027T010000
END:STANDARD
BEGIN:DAYLIGHT
TZOFFSETFROM:+0100
TZOFFSETTO:+0200
TZNAME:CEST
DTSTART:20250330T010000
END:DAYLIGHT
BEGIN:STANDARD
TZOFFSETFROM:+0200
TZOFFSETTO:+0100
TZNAME:CET
DTSTART:20251026T010000
END:STANDARD
END:VTIMEZONE
BEGIN:VEVENT
DTSTART;TZID=Europe/Berlin:20240911T190000
DTEND;TZID=Europe/Berlin:20240911T220000
DTSTAMP:20260422T045002
CREATED:20240909T082247Z
LAST-MODIFIED:20240909T082248Z
UID:29685-1726081200-1726092000@wpkoblenz.de
SUMMARY:WPKO #55: E-Mail Versand über WordPress - sicher und zuverlässig
DESCRIPTION:Besucher kommen auf deine Website und Juhuuuu! Sie interessieren sich für deine Dienstleistung und füllen dein Formular aus! Aber was dann? Wie kannst du sicher sein\, dass die Mails aus deinem Formular auch wirklich ankommen? Wie sorgst du für sicheren Versand? Das alles klären wir in diesem Meetup. \n\n\n\nDanach haben wir wie immer Zeit für DEINE Fragen und Problemchen mit WordPress oder auch eine lockere Plauderei. \n\n\n\nWir freuen uns auf euch im TZK Koblenz. \n\n\n\nINFOS zur LOCATION:Es gibt hier eine elektrische Tür\, die von innen geöffnet werden muss. Wenn Du also etwas später kommst\, musst Du die an der Tür angeklebte Nummer anrufen und wir machen die Tür auf. \n\n\n\nPARKEN:Leider gibt es direkt am Gebäude des TKZ keine Parkplätze. Bitte parkt an der Straße oder auf dem großen Parkplatz am StattStrand.########################### \n\n\n\nUnser WordPress-Treffen ist offen für alle Interessierten\, egal ob Anwender/in\, Entwickler/in\, Student/in oder Unternehmer/in. Bei uns ist jeder willkommen\, der Wissensstand ist bunt gemischt und wir freuen uns immer über neue Gesichter. \n\n\n\nBei unseren Treffen geht es meistens ca. 1 Std. um ein bestimmtes Thema und danach ist eine offene Diskussions-/Austauschrunde für alle WordPress-Themen. Wir schauen aber auch gerne mal über den Tellerrand. \n\n\n\nWeitere Infos gibt es auch auf der Website https://wpkoblenz.deauf Twitter: https://twitter.com/wpkoblenzoder Facebook: https://www.facebook.com/wpkoblenz/oder LinkedIn: https://www.linkedin.com/groups/12711272/Die weiteren Termine: immer am 2. Mittwoch im Monat\, Termine werden auf allen Kanälen veröffentlicht.Alle WordPress Meetups im deutschsprachigen Raum findet man hier: http://wpmeetups.de/
URL:https://wpkoblenz.de/meetup/wpko-55-e-mail-versand-ueber-wordpress-sicher-und-zuverlaessig/
LOCATION:TZK – Technologiezentrum Koblenz\, Universitätsstraße 3\, Koblenz\, 56070\, Deutschland
ATTACH;FMTTYPE=image/jpeg:https://wpkoblenz.de/wp-content/uploads/2024/09/meetup-09-24-1.jpg
END:VEVENT
END:VCALENDAR