BEGIN:VCALENDAR
VERSION:2.0
PRODID:-//WordPress Meetup Koblenz - ECPv6.15.20//NONSGML v1.0//EN
CALSCALE:GREGORIAN
METHOD:PUBLISH
X-WR-CALNAME:WordPress Meetup Koblenz
X-ORIGINAL-URL:https://wpkoblenz.de
X-WR-CALDESC:Veranstaltungen für WordPress Meetup Koblenz
REFRESH-INTERVAL;VALUE=DURATION:PT1H
X-Robots-Tag:noindex
X-PUBLISHED-TTL:PT1H
BEGIN:VTIMEZONE
TZID:Europe/Berlin
BEGIN:DAYLIGHT
TZOFFSETFROM:+0100
TZOFFSETTO:+0200
TZNAME:CEST
DTSTART:20240331T010000
END:DAYLIGHT
BEGIN:STANDARD
TZOFFSETFROM:+0200
TZOFFSETTO:+0100
TZNAME:CET
DTSTART:20241027T010000
END:STANDARD
BEGIN:DAYLIGHT
TZOFFSETFROM:+0100
TZOFFSETTO:+0200
TZNAME:CEST
DTSTART:20250330T010000
END:DAYLIGHT
BEGIN:STANDARD
TZOFFSETFROM:+0200
TZOFFSETTO:+0100
TZNAME:CET
DTSTART:20251026T010000
END:STANDARD
BEGIN:DAYLIGHT
TZOFFSETFROM:+0100
TZOFFSETTO:+0200
TZNAME:CEST
DTSTART:20260329T010000
END:DAYLIGHT
BEGIN:STANDARD
TZOFFSETFROM:+0200
TZOFFSETTO:+0100
TZNAME:CET
DTSTART:20261025T010000
END:STANDARD
END:VTIMEZONE
BEGIN:VEVENT
DTSTART;TZID=Europe/Berlin:20250108T190000
DTEND;TZID=Europe/Berlin:20250108T220000
DTSTAMP:20260421T221200
CREATED:20250106T150954Z
LAST-MODIFIED:20250106T150956Z
UID:29707-1736362800-1736373600@wpkoblenz.de
SUMMARY:MEETUP JANUAR - FÄLLT AUS
DESCRIPTION:Das Januar-Meetup fällt leider aus! Wir freuen uns auf ein Wiedersehen im Februar.
URL:https://wpkoblenz.de/meetup/meetup-januar-faellt-aus/
END:VEVENT
END:VCALENDAR