BEGIN:VCALENDAR
VERSION:2.0
PRODID:-//WordPress Meetup Koblenz - ECPv6.15.20//NONSGML v1.0//EN
CALSCALE:GREGORIAN
METHOD:PUBLISH
X-WR-CALNAME:WordPress Meetup Koblenz
X-ORIGINAL-URL:https://wpkoblenz.de
X-WR-CALDESC:Veranstaltungen für WordPress Meetup Koblenz
REFRESH-INTERVAL;VALUE=DURATION:PT1H
X-Robots-Tag:noindex
X-PUBLISHED-TTL:PT1H
BEGIN:VTIMEZONE
TZID:Europe/Berlin
BEGIN:DAYLIGHT
TZOFFSETFROM:+0100
TZOFFSETTO:+0200
TZNAME:CEST
DTSTART:20240331T010000
END:DAYLIGHT
BEGIN:STANDARD
TZOFFSETFROM:+0200
TZOFFSETTO:+0100
TZNAME:CET
DTSTART:20241027T010000
END:STANDARD
BEGIN:DAYLIGHT
TZOFFSETFROM:+0100
TZOFFSETTO:+0200
TZNAME:CEST
DTSTART:20250330T010000
END:DAYLIGHT
BEGIN:STANDARD
TZOFFSETFROM:+0200
TZOFFSETTO:+0100
TZNAME:CET
DTSTART:20251026T010000
END:STANDARD
BEGIN:DAYLIGHT
TZOFFSETFROM:+0100
TZOFFSETTO:+0200
TZNAME:CEST
DTSTART:20260329T010000
END:DAYLIGHT
BEGIN:STANDARD
TZOFFSETFROM:+0200
TZOFFSETTO:+0100
TZNAME:CET
DTSTART:20261025T010000
END:STANDARD
END:VTIMEZONE
BEGIN:VEVENT
DTSTART;TZID=Europe/Berlin:20250409T190000
DTEND;TZID=Europe/Berlin:20250409T220000
DTSTAMP:20260421T171502
CREATED:20250402T161809Z
LAST-MODIFIED:20250402T161818Z
UID:29722-1744225200-1744236000@wpkoblenz.de
SUMMARY:WPKO #61: Pagespeed - die Checkliste
DESCRIPTION:In diesem Meetup schauen wir uns eine umfangreiche Pagespeed-Checkliste an. Punkt für Punkt gehen wir gemeinsam durch\, was wirklich wichtig ist – und erklären alles verständlich anhand praktischer Beispiele. \n\n\n\nDanach ist wie immer Zeit für einen Plausch oder die gemeinsame Behebung von Problemen mit euren WordPress Websites. \n\n\n\nWir freuen uns auf euch. \n\n\n\nINFOS zur LOCATION:Es gibt hier eine elektrische Tür\, die von innen geöffnet werden muss. Wenn Du also etwas später kommst\, musst Du die an der Tür angeklebte Nummer anrufen und wir machen die Tür auf. \n\n\n\nPARKEN:Leider gibt es direkt am Gebäude des TKZ keine Parkplätze. Bitte parkt an der Straße oder auf dem großen Parkplatz am StattStrand.########################### \n\n\n\nUnser WordPress-Treffen ist offen für alle Interessierten\, egal ob Anwender/in\, Entwickler/in\, Student/in oder Unternehmer/in. Bei uns ist jeder willkommen\, der Wissensstand ist bunt gemischt und wir freuen uns immer über neue Gesichter. \n\n\n\nBei unseren Treffen geht es meistens ca. 1 Std. um ein bestimmtes Thema und danach ist eine offene Diskussions-/Austauschrunde für alle WordPress-Themen. Wir schauen aber auch gerne mal über den Tellerrand. \n\n\n\nWeitere Infos gibt es auch auf der Website https://wpkoblenz.deauf Twitter: https://twitter.com/wpkoblenzoder Facebook: https://www.facebook.com/wpkoblenz/oder LinkedIn: https://www.linkedin.com/groups/12711272/Die weiteren Termine: immer am 2. Mittwoch im Monat\, Termine werden auf allen Kanälen veröffentlicht.Alle WordPress Meetups im deutschsprachigen Raum findet man hier: http://wpmeetups.de/
URL:https://wpkoblenz.de/meetup/wpko-61-pagespeed-die-checkliste/
LOCATION:TZK – Technologiezentrum Koblenz\, Universitätsstraße 3\, Koblenz\, 56070\, Deutschland
ATTACH;FMTTYPE=image/jpeg:https://wpkoblenz.de/wp-content/uploads/2025/04/stencil.fb-cover-joe.jpg
END:VEVENT
END:VCALENDAR